BEGIN:VCALENDAR
VERSION:2.0
PRODID:-//ChamberMaster//Event Calendar 2.0//EN
METHOD:PUBLISH
X-PUBLISHED-TTL:P3D
REFRESH-INTERVAL:P3D
CALSCALE:GREGORIAN
BEGIN:VEVENT
DTSTART:20260506T200000Z
DTEND:20260506T203000Z
X-MICROSOFT-CDO-ALLDAYEVENT:FALSE
SUMMARY:Story Time at the Powell Library
DESCRIPTION:Encourage your child to love reading during Story Time at the Powell Library!\n\n \n\nThis children's program is free to attend and is geared toward those aged 3-6 years old.
X-ALT-DESC;FMTTYPE=text/html:<div>\n<div><span style="font-family:inherit">Encourage your child to love reading during Story Time at the Powell Library!</span></div>\n\n<div>&nbsp\;</div>\n\n<div><span style="font-family:inherit">This children&#39\;s program is free to attend and is geared toward those aged 3-6 years old.</span></div>\n</div>\n\n<div>\n<div>&nbsp\;</div>\n</div>\n
LOCATION:Powell Library 217 E. 3rd St. Powell\, WY 82435
UID:e.326.29326
SEQUENCE:3
DTSTAMP:20260423T005916Z
URL:https://business.powellchamber.org/events/details/story-time-at-the-powell-library-12-10-2025-29326
END:VEVENT

END:VCALENDAR
