BEGIN:VCALENDAR
VERSION:2.0
PRODID:-//ChamberMaster//Event Calendar 2.0//EN
METHOD:PUBLISH
X-PUBLISHED-TTL:P3D
REFRESH-INTERVAL:P3D
CALSCALE:GREGORIAN
BEGIN:VEVENT
DTSTART:20260616T150000Z
DTEND:20260616T180000Z
X-MICROSOFT-CDO-ALLDAYEVENT:FALSE
SUMMARY:Tech Tuesday at the Powell Library
DESCRIPTION:To make a reservation for Tech Tuesday\, please call the Powell Library at (307) 754-8828 or stop by the circulation desk for a free one-on-one session with a local IT person to help with your electronic device problems!\n\n\n \n\n\n\nWhat is Tech Tuesday? It is a 45 minute one-on-one session with a local IT person to help answer questions or help you with your electronic device problems. Tech Tuesday is held once a month\, typically on the third Tuesday of the month.\n\n\n\n \n\n\n\nAppointment time slots are at 9 a.m.\, 9:45 a.m.\, 10:30 a.m.\, 11:15 a.m. and at noon.\n\n\n\nPlease bring your charged electronic device and any relevant login information with you.\n\n\n\n \n\n\n\n*** The Powell Library is located inside Homesteader Hall at the Park County Fairgrounds (655 E. 5th St.)
X-ALT-DESC;FMTTYPE=text/html:<div>To make a reservation for Tech Tuesday\, please call the Powell Library at (307) 754-8828 or stop by the circulation desk for a free one-on-one session with a local IT person to help with your electronic device problems!</div>\n\n<div>\n<div>&nbsp\;</div>\n</div>\n\n<div>\n<div><span style="font-family:inherit">What is Tech Tuesday? It is a 45 minute one-on-one session with a local IT person to help answer questions or help you with your electronic device problems. Tech Tuesday is held once a month\, typically on the third Tuesday of the month.</span></div>\n</div>\n\n<div>\n<div>&nbsp\;</div>\n</div>\n\n<div>\n<div><span style="font-family:inherit">Appointment time slots are at 9 a.m.\, 9:45 a.m.\, 10:30 a.m.\, 11:15 a.m. and at noon.</span></div>\n</div>\n\n<div>\n<div><span style="font-family:inherit">Please bring your charged electronic device and any relevant login information with you.</span></div>\n</div>\n\n<div>\n<div>&nbsp\;</div>\n</div>\n\n<div>\n<div><span style="font-family:inherit">*** The Powell Library is located inside Homesteader Hall at the Park County Fairgrounds (655 E. 5th St.)</span></div>\n</div>\n
LOCATION:Powell Library 217 E. 5th St. Powell\, WY 82435
UID:e.326.30187
SEQUENCE:3
DTSTAMP:20260425T002523Z
URL:https://business.powellchamber.org/events/details/tech-tuesday-at-the-powell-library-06-16-2026-30187
END:VEVENT

END:VCALENDAR
