BEGIN:VCALENDAR
VERSION:2.0
PRODID:-//ChamberMaster//Event Calendar 2.0//EN
METHOD:PUBLISH
X-PUBLISHED-TTL:P3D
REFRESH-INTERVAL:P3D
CALSCALE:GREGORIAN
BEGIN:VEVENT
DTSTART:20260521T163000Z
DTEND:20260521T170000Z
X-MICROSOFT-CDO-ALLDAYEVENT:FALSE
SUMMARY:Toddler Time at the Powell Library
DESCRIPTION:Powell Library's Toddler Time provides a positive introduction to the library and reading through nursery rhymes\, songs\, motion and play!\n\n \n\nThis children's program is free to attend and is geared towards those aged 0-36 months old.
X-ALT-DESC;FMTTYPE=text/html:<div>\n<div>\n<div><span style="font-family:inherit">Powell Library&#39\;s Toddler Time provides a positive introduction to the library and reading through nursery rhymes\, songs\, motion and play!</span></div>\n\n<div>&nbsp\;</div>\n\n<div><span style="font-family:inherit">This children&#39\;s program is free to attend and is geared towards those aged 0-36 months old.&nbsp\;</span></div>\n</div>\n</div>\n
LOCATION:Powell Library 217 E. 3rd St. Powell\, WY 82435
UID:e.326.29338
SEQUENCE:3
DTSTAMP:20260423T103722Z
URL:https://business.powellchamber.org/events/details/toddler-time-at-the-powell-library-12-02-2025-29338
END:VEVENT

END:VCALENDAR
